BEGIN:VCALENDAR
VERSION:2.0
PRODID:-//eventon.com NONSGML v1.0//EN
CALSCALE:GREGORIAN
METHOD:PUBLISH
BEGIN:VEVENT
UID:69e82b62d8a5e
DTSTAMP:20260422T015858Z
DTSTART:20210207T030000Z
DTEND:20210207T050000Z
LOCATION:https://zoom.us/j/91518861659?pwd=OVpVb0RreFIyd2dqdU1yK2dvV2o1Zz09 
SUMMARY:Ho'oponopono Online Playshop Teil 1-3
DESCRIPTION:Der Lockdown ist noch im vollen Gange und ich bin der inneren Ă
 śberzeugung\,  das dies genau die richtige Zeit ist\,  sich wieder einmal m
 it der hawaiianischen Praxis des Hoâ€™oponopono zu beschĂ¤ftigen\,  sei es 
 als Neueinstieg oder zur Wiederholung oder Vertiefung. Ein hawaiianisches S
 prichwort besagt â€žBevor die Sonne untergeht\,  vergib.â€ś Im[..]\nhttps:/
 /lomi-massagekunst.de/events/hooponopono-online-playshop-teil-1/var/event_a
 ccess
URL:https://lomi-massagekunst.de/events/hooponopono-online-playshop-teil-1/var/event_access
END:VEVENT
END:VCALENDAR