BEGIN:VCALENDAR
VERSION:2.0
PRODID:-//eventon.com NONSGML v1.0//EN
CALSCALE:GREGORIAN
METHOD:PUBLISH
BEGIN:VEVENT
UID:69e9f11021281
DTSTAMP:20260423T101440Z
DTSTART:20210723
DTEND:20210724
LOCATION:bei Helga Langer in Gifkendorf Gifkendorf 33\,  21397 Vastorf
SUMMARY:LOMIS in Gifkendorf (Vastorf bei Lüneburg)
DESCRIPTION:Die LOMI-Massagen finden bei Helga Langer im wunderschönen Gif
 kendorf nahe Lüneburg statt. Anmeldungen bitte direkt über Helga Langer p
 er Mail [mail_crypt mail=&#8220;info@helgalanger.de&#8220;] &nbsp;\nhttps:/
 /lomi-massagekunst.de/events/lomis-in-gifkendorf-vastorf-bei-lueneburg-copy
 /
URL:https://lomi-massagekunst.de/events/lomis-in-gifkendorf-vastorf-bei-lueneburg-copy/
END:VEVENT
END:VCALENDAR