BEGIN:VCALENDAR
VERSION:2.0
PRODID:-//eventon.com NONSGML v1.0//EN
CALSCALE:GREGORIAN
METHOD:PUBLISH
BEGIN:VEVENT
UID:69e9dc98029c9
DTSTAMP:20260423T084720Z
DTSTART:20171015T110000Z
DTEND:20171015T170000Z
LOCATION:Heilhaus Lüneburg Am Markt 4\,  21335 Lüneburg
SUMMARY:LOMI im Heilhaus Lüneburg
DESCRIPTION:Wer einmal eine hawaiianische LOMI-Massage kennenlernen möcht
 e\,  hat an diesem Tag die Möglichkeit\,  eine LOMI bei mir zu buchen. Je
 weils um 11 Uhr und um 14.30 Uhr biete ich einen Termin an. Eine LOMI dauer
 t zwischen 90 und 120 Minuten. Kosten: 120\, - Euro Bitte direkt anmelden t
 elefonisch unter +49 (179) 24 21[..]\nhttps://lomi-massagekunst.de/events/l
 omi-im-heilhaus-lueneburg/
URL:https://lomi-massagekunst.de/events/lomi-im-heilhaus-lueneburg/
END:VEVENT
END:VCALENDAR