BEGIN:VCALENDAR
VERSION:2.0
PRODID:-//eventon.com NONSGML v1.0//EN
CALSCALE:GREGORIAN
METHOD:PUBLISH
BEGIN:VEVENT
UID:69e4f726289f9
DTSTAMP:20260419T153918Z
DTSTART:20250615T090000Z
DTEND:20250615T150000Z
LOCATION:ALOHA Zentrum Neufresenburg 22
SUMMARY:ABGESAGT: FLIEGEN in Neufresenburg
DESCRIPTION:Erneut möchte ich euch anbieten\,  dass wir wieder einmal vor 
 Ort gemeinsam fliegen. Am Sonntag werden wir von 11 bis ca. 17 Uhr die Flü
 gel ausbreiten und uns miteinander in das gemeinsame Flug-Erlebnis begeben!
  Bitte bringt bequeme Kleidung für viel Bewegung und ausreichend Wasser mi
 t. Geflogen wird wie immer barfuß[..]\nhttps://lomi-massagekunst.de/events
 /fliegen-in-neufresenburg-5/
URL:https://lomi-massagekunst.de/events/fliegen-in-neufresenburg-5/
END:VEVENT
END:VCALENDAR